 BEGIN:VCALENDAR
VERSION:2.0
PRODID:-//Christian Revival Fellowship - ECPv5.14.1//NONSGML v1.0//EN
CALSCALE:GREGORIAN
METHOD:PUBLISH
X-WR-CALNAME:Christian Revival Fellowship
X-ORIGINAL-URL:https://crfgospel.in
X-WR-CALDESC:Events for Christian Revival Fellowship
REFRESH-INTERVAL;VALUE=DURATION:PT1H
X-Robots-Tag:noindex
X-PUBLISHED-TTL:PT1H
BEGIN:VTIMEZONE
TZID:Asia/Kolkata
BEGIN:STANDARD
TZOFFSETFROM:+0530
TZOFFSETTO:+0530
TZNAME:IST
DTSTART:20250101T000000
END:STANDARD
END:VTIMEZONE
BEGIN:VEVENT
DTSTART;TZID=Asia/Kolkata:20251229T182000
DTEND;TZID=Asia/Kolkata:20251229T203000
DTSTAMP:20260425T212335
CREATED:20240719T091101Z
LAST-MODIFIED:20260115T121551Z
UID:16137-1767032400-1767040200@crfgospel.in
SUMMARY:Monday Meeting
DESCRIPTION:
URL:https://crfgospel.in/event/monday-meeting/2025-12-29/
LOCATION:CRF Prayer Hall\, CRF Prayer Hall\, Ernakulam\, Kerala\, 682311\, India
CATEGORIES:CRF Prayer Hall,Main Meetings
GEO:10.0153071;76.4537203
X-APPLE-STRUCTURED-LOCATION;VALUE=URI;X-ADDRESS=CRF Prayer Hall CRF Prayer Hall Ernakulam Kerala 682311 India;X-APPLE-RADIUS=500;X-TITLE=CRF Prayer Hall:geo:76.4537203,10.0153071
END:VEVENT
BEGIN:VEVENT
DTSTART;TZID=Asia/Kolkata:20251229T180000
DTEND;TZID=Asia/Kolkata:20251229T213000
DTSTAMP:20260425T212335
CREATED:20251211T052840Z
LAST-MODIFIED:20251211T055628Z
UID:16175-1767031200-1767043800@crfgospel.in
SUMMARY:Kolenchery Convention (Njattumkalayil Hilltop)
DESCRIPTION:
URL:https://crfgospel.in/event/kolenchery-convention-njattumkalayil-hilltop/2025-12-29/
LOCATION:Njaattumkaalayil Hilltop\, Kolenchery\, Njaattumkaalayil Hilltop\, Kolenchery\, Kerala\, 682311\, India
CATEGORIES:Convention,Kolenchery
END:VEVENT
BEGIN:VEVENT
DTSTART;TZID=Asia/Kolkata:20251229T093000
DTEND;TZID=Asia/Kolkata:20251229T133000
DTSTAMP:20260425T212335
CREATED:20251211T052840Z
LAST-MODIFIED:20251211T055627Z
UID:16172-1767000600-1767015000@crfgospel.in
SUMMARY:Kolenchery Convention (Njattumkalayil Hilltop)
DESCRIPTION:
URL:https://crfgospel.in/event/kolenchery-convention-njattumkalayil-hilltop/2025-12-29/
LOCATION:Njaattumkaalayil Hilltop\, Kolenchery\, Njaattumkaalayil Hilltop\, Kolenchery\, Kerala\, 682311\, India
CATEGORIES:Convention,Kolenchery
END:VEVENT
BEGIN:VEVENT
DTSTART;TZID=Asia/Kolkata:20251228T180000
DTEND;TZID=Asia/Kolkata:20251228T220000
DTSTAMP:20260425T212335
CREATED:20251211T052840Z
LAST-MODIFIED:20251211T055627Z
UID:16174-1766944800-1766959200@crfgospel.in
SUMMARY:Kolenchery Convention (Njattumkalayil Hilltop)
DESCRIPTION:
URL:https://crfgospel.in/event/kolenchery-convention-njattumkalayil-hilltop/2025-12-28/
LOCATION:Njaattumkaalayil Hilltop\, Kolenchery\, Njaattumkaalayil Hilltop\, Kolenchery\, Kerala\, 682311\, India
CATEGORIES:Convention,Kolenchery
END:VEVENT
BEGIN:VEVENT
DTSTART;TZID=Asia/Kolkata:20251228T180000
DTEND;TZID=Asia/Kolkata:20251228T213000
DTSTAMP:20260425T212335
CREATED:20251211T052840Z
LAST-MODIFIED:20251211T052840Z
UID:16178-1766944800-1766957400@crfgospel.in
SUMMARY:Kolenchery Convention (Njattumkalayil Hilltop)
DESCRIPTION:
URL:https://crfgospel.in/event/kolenchery-convention-njattumkalayil-hilltop/2025-12-28/
LOCATION:Njaattumkaalayil Hilltop\, Kolenchery\, Njaattumkaalayil Hilltop\, Kolenchery\, Kerala\, 682311\, India
CATEGORIES:Convention,Kolenchery
END:VEVENT
BEGIN:VEVENT
DTSTART;TZID=Asia/Kolkata:20251228T150000
DTEND;TZID=Asia/Kolkata:20251228T173000
DTSTAMP:20260425T212335
CREATED:20250626T062145Z
LAST-MODIFIED:20250626T062145Z
UID:16222-1766934000-1766943000@crfgospel.in
SUMMARY:Meenangadi - Every 4th Sunday
DESCRIPTION:
URL:https://crfgospel.in/event/meenangadi-every-4th-sunday/2025-12-28/
LOCATION:Meenangadi\, Mor Ignatius Nagar\, Meenangadi - 54\, Kerala\, India
CATEGORIES:Meenangadi,Meetings Inside Kerala
GEO:11.6602641;76.162889
X-APPLE-STRUCTURED-LOCATION;VALUE=URI;X-ADDRESS=Meenangadi Mor Ignatius Nagar Meenangadi - 54 Kerala India;X-APPLE-RADIUS=500;X-TITLE=Mor Ignatius Nagar:geo:76.162889,11.6602641
END:VEVENT
BEGIN:VEVENT
DTSTART;TZID=Asia/Kolkata:20251228T150000
DTEND;TZID=Asia/Kolkata:20251228T173000
DTSTAMP:20260425T212335
CREATED:20220730T201331Z
LAST-MODIFIED:20220730T201331Z
UID:16129-1766934000-1766943000@crfgospel.in
SUMMARY:Chingavanam - Every Fourth Sunday
DESCRIPTION:
URL:https://crfgospel.in/event/chingavanam-every-fourth-sunday/2025-12-28/
LOCATION:Chingavanam\, Kelachandra Hospital Auditorium\, Chingavanam\, Kerala\, 679334\, India
CATEGORIES:Chingavanam,Meetings Inside Kerala
GEO:9.5247693;76.5246636
X-APPLE-STRUCTURED-LOCATION;VALUE=URI;X-ADDRESS=Chingavanam Kelachandra Hospital Auditorium Chingavanam Kerala 679334 India;X-APPLE-RADIUS=500;X-TITLE=Kelachandra Hospital Auditorium:geo:76.5246636,9.5247693
END:VEVENT
BEGIN:VEVENT
DTSTART;TZID=Asia/Kolkata:20251228T093000
DTEND;TZID=Asia/Kolkata:20251228T133000
DTSTAMP:20260425T212335
CREATED:20251211T052840Z
LAST-MODIFIED:20251211T055626Z
UID:16171-1766914200-1766928600@crfgospel.in
SUMMARY:Kolenchery Convention (Njattumkalayil Hilltop)
DESCRIPTION:
URL:https://crfgospel.in/event/kolenchery-convention-njattumkalayil-hilltop/2025-12-28/
LOCATION:Njaattumkaalayil Hilltop\, Kolenchery\, Njaattumkaalayil Hilltop\, Kolenchery\, Kerala\, 682311\, India
CATEGORIES:Convention,Kolenchery
END:VEVENT
BEGIN:VEVENT
DTSTART;TZID=Asia/Kolkata:20251227T203000
DTEND;TZID=Asia/Kolkata:20251227T223000
DTSTAMP:20260425T212335
CREATED:20250628T095915Z
LAST-MODIFIED:20250628T095915Z
UID:16491-1766867400-1766874600@crfgospel.in
SUMMARY:Abudhabi (Zoom Meeting)
DESCRIPTION:
URL:https://crfgospel.in/event/abudhabi/2025-12-27/
LOCATION:Abudhabi\, Abudhabi\, United Arab Emirates
CATEGORIES:Abudhabi,Meetings Outside India
END:VEVENT
BEGIN:VEVENT
DTSTART;TZID=Asia/Kolkata:20251222T182000
DTEND;TZID=Asia/Kolkata:20251222T203000
DTSTAMP:20260425T212335
CREATED:20240719T091101Z
LAST-MODIFIED:20260115T121551Z
UID:16109-1766427600-1766435400@crfgospel.in
SUMMARY:Monday Meeting
DESCRIPTION:
URL:https://crfgospel.in/event/monday-meeting/2025-12-22/
LOCATION:CRF Prayer Hall\, CRF Prayer Hall\, Ernakulam\, Kerala\, 682311\, India
CATEGORIES:CRF Prayer Hall,Main Meetings
GEO:10.0153071;76.4537203
X-APPLE-STRUCTURED-LOCATION;VALUE=URI;X-ADDRESS=CRF Prayer Hall CRF Prayer Hall Ernakulam Kerala 682311 India;X-APPLE-RADIUS=500;X-TITLE=CRF Prayer Hall:geo:76.4537203,10.0153071
END:VEVENT
BEGIN:VEVENT
DTSTART;TZID=Asia/Kolkata:20251220T184500
DTEND;TZID=Asia/Kolkata:20251220T210000
DTSTAMP:20260425T212335
CREATED:20250124T065204Z
LAST-MODIFIED:20250124T065204Z
UID:16412-1766256300-1766264400@crfgospel.in
SUMMARY:Young Men's Meeting
DESCRIPTION:
URL:https://crfgospel.in/event/young-mens-meeting/2025-12-20/
LOCATION:CRF Prayer Hall\, CRF Prayer Hall\, Ernakulam\, Kerala\, 682311\, India
CATEGORIES:CRF Prayer Hall,Main Meetings
GEO:10.0153071;76.4537203
X-APPLE-STRUCTURED-LOCATION;VALUE=URI;X-ADDRESS=CRF Prayer Hall CRF Prayer Hall Ernakulam Kerala 682311 India;X-APPLE-RADIUS=500;X-TITLE=CRF Prayer Hall:geo:76.4537203,10.0153071
END:VEVENT
BEGIN:VEVENT
DTSTART;TZID=Asia/Kolkata:20251215T182000
DTEND;TZID=Asia/Kolkata:20251215T203000
DTSTAMP:20260425T212335
CREATED:20240719T091101Z
LAST-MODIFIED:20260115T121551Z
UID:16085-1765822800-1765830600@crfgospel.in
SUMMARY:Monday Meeting
DESCRIPTION:
URL:https://crfgospel.in/event/monday-meeting/2025-12-15/
LOCATION:CRF Prayer Hall\, CRF Prayer Hall\, Ernakulam\, Kerala\, 682311\, India
CATEGORIES:CRF Prayer Hall,Main Meetings
GEO:10.0153071;76.4537203
X-APPLE-STRUCTURED-LOCATION;VALUE=URI;X-ADDRESS=CRF Prayer Hall CRF Prayer Hall Ernakulam Kerala 682311 India;X-APPLE-RADIUS=500;X-TITLE=CRF Prayer Hall:geo:76.4537203,10.0153071
END:VEVENT
BEGIN:VEVENT
DTSTART;TZID=Asia/Kolkata:20251208T182000
DTEND;TZID=Asia/Kolkata:20251208T203000
DTSTAMP:20260425T212335
CREATED:20240719T091101Z
LAST-MODIFIED:20260115T121551Z
UID:16053-1765218000-1765225800@crfgospel.in
SUMMARY:Monday Meeting
DESCRIPTION:
URL:https://crfgospel.in/event/monday-meeting/2025-12-08/
LOCATION:CRF Prayer Hall\, CRF Prayer Hall\, Ernakulam\, Kerala\, 682311\, India
CATEGORIES:CRF Prayer Hall,Main Meetings
GEO:10.0153071;76.4537203
X-APPLE-STRUCTURED-LOCATION;VALUE=URI;X-ADDRESS=CRF Prayer Hall CRF Prayer Hall Ernakulam Kerala 682311 India;X-APPLE-RADIUS=500;X-TITLE=CRF Prayer Hall:geo:76.4537203,10.0153071
END:VEVENT
BEGIN:VEVENT
DTSTART;TZID=Asia/Kolkata:20251205T182000
DTEND;TZID=Asia/Kolkata:20251205T203000
DTSTAMP:20260425T212335
CREATED:20250628T101526Z
LAST-MODIFIED:20250628T101526Z
UID:16480-1764958800-1764966600@crfgospel.in
SUMMARY:Kuwait Zoom Meeting
DESCRIPTION:
URL:https://crfgospel.in/event/kuwait-zoom-meeting/2025-12-05/
LOCATION:Kuwait\, Kuwait\, Kuwait
CATEGORIES:Kuwait,Meetings Outside India
END:VEVENT
BEGIN:VEVENT
DTSTART;TZID=Asia/Kolkata:20251201T182000
DTEND;TZID=Asia/Kolkata:20251201T203000
DTSTAMP:20260425T212335
CREATED:20240719T091101Z
LAST-MODIFIED:20260115T121550Z
UID:16019-1764613200-1764621000@crfgospel.in
SUMMARY:Monday Meeting
DESCRIPTION:
URL:https://crfgospel.in/event/monday-meeting/2025-12-01/
LOCATION:CRF Prayer Hall\, CRF Prayer Hall\, Ernakulam\, Kerala\, 682311\, India
CATEGORIES:CRF Prayer Hall,Main Meetings
GEO:10.0153071;76.4537203
X-APPLE-STRUCTURED-LOCATION;VALUE=URI;X-ADDRESS=CRF Prayer Hall CRF Prayer Hall Ernakulam Kerala 682311 India;X-APPLE-RADIUS=500;X-TITLE=CRF Prayer Hall:geo:76.4537203,10.0153071
END:VEVENT
BEGIN:VEVENT
DTSTART;TZID=Asia/Kolkata:20251124T182000
DTEND;TZID=Asia/Kolkata:20251124T203000
DTSTAMP:20260425T212335
CREATED:20240719T091101Z
LAST-MODIFIED:20260115T121550Z
UID:15994-1764008400-1764016200@crfgospel.in
SUMMARY:Monday Meeting
DESCRIPTION:
URL:https://crfgospel.in/event/monday-meeting/2025-11-24/
LOCATION:CRF Prayer Hall\, CRF Prayer Hall\, Ernakulam\, Kerala\, 682311\, India
CATEGORIES:CRF Prayer Hall,Main Meetings
GEO:10.0153071;76.4537203
X-APPLE-STRUCTURED-LOCATION;VALUE=URI;X-ADDRESS=CRF Prayer Hall CRF Prayer Hall Ernakulam Kerala 682311 India;X-APPLE-RADIUS=500;X-TITLE=CRF Prayer Hall:geo:76.4537203,10.0153071
END:VEVENT
BEGIN:VEVENT
DTSTART;TZID=Asia/Kolkata:20251123T150000
DTEND;TZID=Asia/Kolkata:20251123T173000
DTSTAMP:20260425T212335
CREATED:20250626T062145Z
LAST-MODIFIED:20250626T062145Z
UID:16221-1763910000-1763919000@crfgospel.in
SUMMARY:Meenangadi - Every 4th Sunday
DESCRIPTION:
URL:https://crfgospel.in/event/meenangadi-every-4th-sunday/2025-11-23/
LOCATION:Meenangadi\, Mor Ignatius Nagar\, Meenangadi - 54\, Kerala\, India
CATEGORIES:Meenangadi,Meetings Inside Kerala
GEO:11.6602641;76.162889
X-APPLE-STRUCTURED-LOCATION;VALUE=URI;X-ADDRESS=Meenangadi Mor Ignatius Nagar Meenangadi - 54 Kerala India;X-APPLE-RADIUS=500;X-TITLE=Mor Ignatius Nagar:geo:76.162889,11.6602641
END:VEVENT
BEGIN:VEVENT
DTSTART;TZID=Asia/Kolkata:20251123T150000
DTEND;TZID=Asia/Kolkata:20251123T173000
DTSTAMP:20260425T212335
CREATED:20220730T201331Z
LAST-MODIFIED:20220730T201331Z
UID:15986-1763910000-1763919000@crfgospel.in
SUMMARY:Chingavanam - Every Fourth Sunday
DESCRIPTION:
URL:https://crfgospel.in/event/chingavanam-every-fourth-sunday/2025-11-23/
LOCATION:Chingavanam\, Kelachandra Hospital Auditorium\, Chingavanam\, Kerala\, 679334\, India
CATEGORIES:Chingavanam,Meetings Inside Kerala
GEO:9.5247693;76.5246636
X-APPLE-STRUCTURED-LOCATION;VALUE=URI;X-ADDRESS=Chingavanam Kelachandra Hospital Auditorium Chingavanam Kerala 679334 India;X-APPLE-RADIUS=500;X-TITLE=Kelachandra Hospital Auditorium:geo:76.5246636,9.5247693
END:VEVENT
BEGIN:VEVENT
DTSTART;TZID=Asia/Kolkata:20251122T203000
DTEND;TZID=Asia/Kolkata:20251122T223000
DTSTAMP:20260425T212335
CREATED:20250628T095915Z
LAST-MODIFIED:20250628T095915Z
UID:16490-1763843400-1763850600@crfgospel.in
SUMMARY:Abudhabi (Zoom Meeting)
DESCRIPTION:
URL:https://crfgospel.in/event/abudhabi/2025-11-22/
LOCATION:Abudhabi\, Abudhabi\, United Arab Emirates
CATEGORIES:Abudhabi,Meetings Outside India
END:VEVENT
BEGIN:VEVENT
DTSTART;TZID=Asia/Kolkata:20251117T182000
DTEND;TZID=Asia/Kolkata:20251117T203000
DTSTAMP:20260425T212335
CREATED:20240719T091101Z
LAST-MODIFIED:20260115T121549Z
UID:15962-1763403600-1763411400@crfgospel.in
SUMMARY:Monday Meeting
DESCRIPTION:
URL:https://crfgospel.in/event/monday-meeting/2025-11-17/
LOCATION:CRF Prayer Hall\, CRF Prayer Hall\, Ernakulam\, Kerala\, 682311\, India
CATEGORIES:CRF Prayer Hall,Main Meetings
GEO:10.0153071;76.4537203
X-APPLE-STRUCTURED-LOCATION;VALUE=URI;X-ADDRESS=CRF Prayer Hall CRF Prayer Hall Ernakulam Kerala 682311 India;X-APPLE-RADIUS=500;X-TITLE=CRF Prayer Hall:geo:76.4537203,10.0153071
END:VEVENT
BEGIN:VEVENT
DTSTART;TZID=Asia/Kolkata:20251115T184500
DTEND;TZID=Asia/Kolkata:20251115T210000
DTSTAMP:20260425T212335
CREATED:20250124T065204Z
LAST-MODIFIED:20250124T065204Z
UID:16411-1763232300-1763240400@crfgospel.in
SUMMARY:Young Men's Meeting
DESCRIPTION:
URL:https://crfgospel.in/event/young-mens-meeting/2025-11-15/
LOCATION:CRF Prayer Hall\, CRF Prayer Hall\, Ernakulam\, Kerala\, 682311\, India
CATEGORIES:CRF Prayer Hall,Main Meetings
GEO:10.0153071;76.4537203
X-APPLE-STRUCTURED-LOCATION;VALUE=URI;X-ADDRESS=CRF Prayer Hall CRF Prayer Hall Ernakulam Kerala 682311 India;X-APPLE-RADIUS=500;X-TITLE=CRF Prayer Hall:geo:76.4537203,10.0153071
END:VEVENT
BEGIN:VEVENT
DTSTART;TZID=Asia/Kolkata:20251110T182000
DTEND;TZID=Asia/Kolkata:20251110T203000
DTSTAMP:20260425T212335
CREATED:20240719T091101Z
LAST-MODIFIED:20260115T121548Z
UID:15939-1762798800-1762806600@crfgospel.in
SUMMARY:Monday Meeting
DESCRIPTION:
URL:https://crfgospel.in/event/monday-meeting/2025-11-10/
LOCATION:CRF Prayer Hall\, CRF Prayer Hall\, Ernakulam\, Kerala\, 682311\, India
CATEGORIES:CRF Prayer Hall,Main Meetings
GEO:10.0153071;76.4537203
X-APPLE-STRUCTURED-LOCATION;VALUE=URI;X-ADDRESS=CRF Prayer Hall CRF Prayer Hall Ernakulam Kerala 682311 India;X-APPLE-RADIUS=500;X-TITLE=CRF Prayer Hall:geo:76.4537203,10.0153071
END:VEVENT
BEGIN:VEVENT
DTSTART;TZID=Asia/Kolkata:20251107T182000
DTEND;TZID=Asia/Kolkata:20251107T203000
DTSTAMP:20260425T212335
CREATED:20250628T101526Z
LAST-MODIFIED:20250628T101526Z
UID:16479-1762539600-1762547400@crfgospel.in
SUMMARY:Kuwait Zoom Meeting
DESCRIPTION:
URL:https://crfgospel.in/event/kuwait-zoom-meeting/2025-11-07/
LOCATION:Kuwait\, Kuwait\, Kuwait
CATEGORIES:Kuwait,Meetings Outside India
END:VEVENT
BEGIN:VEVENT
DTSTART;TZID=Asia/Kolkata:20251103T182000
DTEND;TZID=Asia/Kolkata:20251103T203000
DTSTAMP:20260425T212335
CREATED:20240719T091101Z
LAST-MODIFIED:20260115T121548Z
UID:15903-1762194000-1762201800@crfgospel.in
SUMMARY:Monday Meeting
DESCRIPTION:
URL:https://crfgospel.in/event/monday-meeting/2025-11-03/
LOCATION:CRF Prayer Hall\, CRF Prayer Hall\, Ernakulam\, Kerala\, 682311\, India
CATEGORIES:CRF Prayer Hall,Main Meetings
GEO:10.0153071;76.4537203
X-APPLE-STRUCTURED-LOCATION;VALUE=URI;X-ADDRESS=CRF Prayer Hall CRF Prayer Hall Ernakulam Kerala 682311 India;X-APPLE-RADIUS=500;X-TITLE=CRF Prayer Hall:geo:76.4537203,10.0153071
END:VEVENT
BEGIN:VEVENT
DTSTART;TZID=Asia/Kolkata:20251027T182000
DTEND;TZID=Asia/Kolkata:20251027T203000
DTSTAMP:20260425T212335
CREATED:20240719T091101Z
LAST-MODIFIED:20260115T121547Z
UID:15891-1761589200-1761597000@crfgospel.in
SUMMARY:Monday Meeting
DESCRIPTION:
URL:https://crfgospel.in/event/monday-meeting/2025-10-27/
LOCATION:CRF Prayer Hall\, CRF Prayer Hall\, Ernakulam\, Kerala\, 682311\, India
CATEGORIES:CRF Prayer Hall,Main Meetings
GEO:10.0153071;76.4537203
X-APPLE-STRUCTURED-LOCATION;VALUE=URI;X-ADDRESS=CRF Prayer Hall CRF Prayer Hall Ernakulam Kerala 682311 India;X-APPLE-RADIUS=500;X-TITLE=CRF Prayer Hall:geo:76.4537203,10.0153071
END:VEVENT
BEGIN:VEVENT
DTSTART;TZID=Asia/Kolkata:20251026T150000
DTEND;TZID=Asia/Kolkata:20251026T173000
DTSTAMP:20260425T212335
CREATED:20250626T062145Z
LAST-MODIFIED:20250626T062145Z
UID:16220-1761490800-1761499800@crfgospel.in
SUMMARY:Meenangadi - Every 4th Sunday
DESCRIPTION:
URL:https://crfgospel.in/event/meenangadi-every-4th-sunday/2025-10-26/
LOCATION:Meenangadi\, Mor Ignatius Nagar\, Meenangadi - 54\, Kerala\, India
CATEGORIES:Meenangadi,Meetings Inside Kerala
GEO:11.6602641;76.162889
X-APPLE-STRUCTURED-LOCATION;VALUE=URI;X-ADDRESS=Meenangadi Mor Ignatius Nagar Meenangadi - 54 Kerala India;X-APPLE-RADIUS=500;X-TITLE=Mor Ignatius Nagar:geo:76.162889,11.6602641
END:VEVENT
BEGIN:VEVENT
DTSTART;TZID=Asia/Kolkata:20251026T150000
DTEND;TZID=Asia/Kolkata:20251026T173000
DTSTAMP:20260425T212335
CREATED:20220730T201331Z
LAST-MODIFIED:20220730T201331Z
UID:15882-1761490800-1761499800@crfgospel.in
SUMMARY:Chingavanam - Every Fourth Sunday
DESCRIPTION:
URL:https://crfgospel.in/event/chingavanam-every-fourth-sunday/2025-10-26/
LOCATION:Chingavanam\, Kelachandra Hospital Auditorium\, Chingavanam\, Kerala\, 679334\, India
CATEGORIES:Chingavanam,Meetings Inside Kerala
GEO:9.5247693;76.5246636
X-APPLE-STRUCTURED-LOCATION;VALUE=URI;X-ADDRESS=Chingavanam Kelachandra Hospital Auditorium Chingavanam Kerala 679334 India;X-APPLE-RADIUS=500;X-TITLE=Kelachandra Hospital Auditorium:geo:76.5246636,9.5247693
END:VEVENT
BEGIN:VEVENT
DTSTART;TZID=Asia/Kolkata:20251025T203000
DTEND;TZID=Asia/Kolkata:20251025T223000
DTSTAMP:20260425T212335
CREATED:20250628T095915Z
LAST-MODIFIED:20250628T095915Z
UID:16489-1761424200-1761431400@crfgospel.in
SUMMARY:Abudhabi (Zoom Meeting)
DESCRIPTION:
URL:https://crfgospel.in/event/abudhabi/2025-10-25/
LOCATION:Abudhabi\, Abudhabi\, United Arab Emirates
CATEGORIES:Abudhabi,Meetings Outside India
END:VEVENT
BEGIN:VEVENT
DTSTART;TZID=Asia/Kolkata:20251020T182000
DTEND;TZID=Asia/Kolkata:20251020T203000
DTSTAMP:20260425T212335
CREATED:20240719T091101Z
LAST-MODIFIED:20260115T121547Z
UID:15859-1760984400-1760992200@crfgospel.in
SUMMARY:Monday Meeting
DESCRIPTION:
URL:https://crfgospel.in/event/monday-meeting/2025-10-20/
LOCATION:CRF Prayer Hall\, CRF Prayer Hall\, Ernakulam\, Kerala\, 682311\, India
CATEGORIES:CRF Prayer Hall,Main Meetings
GEO:10.0153071;76.4537203
X-APPLE-STRUCTURED-LOCATION;VALUE=URI;X-ADDRESS=CRF Prayer Hall CRF Prayer Hall Ernakulam Kerala 682311 India;X-APPLE-RADIUS=500;X-TITLE=CRF Prayer Hall:geo:76.4537203,10.0153071
END:VEVENT
BEGIN:VEVENT
DTSTART;TZID=Asia/Kolkata:20251018T184500
DTEND;TZID=Asia/Kolkata:20251018T210000
DTSTAMP:20260425T212335
CREATED:20250124T065204Z
LAST-MODIFIED:20250124T065204Z
UID:16410-1760813100-1760821200@crfgospel.in
SUMMARY:Young Men's Meeting
DESCRIPTION:
URL:https://crfgospel.in/event/young-mens-meeting/2025-10-18/
LOCATION:CRF Prayer Hall\, CRF Prayer Hall\, Ernakulam\, Kerala\, 682311\, India
CATEGORIES:CRF Prayer Hall,Main Meetings
GEO:10.0153071;76.4537203
X-APPLE-STRUCTURED-LOCATION;VALUE=URI;X-ADDRESS=CRF Prayer Hall CRF Prayer Hall Ernakulam Kerala 682311 India;X-APPLE-RADIUS=500;X-TITLE=CRF Prayer Hall:geo:76.4537203,10.0153071
END:VEVENT
END:VCALENDAR