 BEGIN:VCALENDAR
VERSION:2.0
PRODID:-//Christian Revival Fellowship - ECPv5.14.1//NONSGML v1.0//EN
CALSCALE:GREGORIAN
METHOD:PUBLISH
X-WR-CALNAME:Christian Revival Fellowship
X-ORIGINAL-URL:https://crfgospel.in
X-WR-CALDESC:Events for Christian Revival Fellowship
REFRESH-INTERVAL;VALUE=DURATION:PT1H
X-Robots-Tag:noindex
X-PUBLISHED-TTL:PT1H
BEGIN:VTIMEZONE
TZID:Asia/Kolkata
BEGIN:STANDARD
TZOFFSETFROM:+0530
TZOFFSETTO:+0530
TZNAME:IST
DTSTART:20250101T000000
END:STANDARD
END:VTIMEZONE
BEGIN:VEVENT
DTSTART;TZID=Asia/Kolkata:20260126T182000
DTEND;TZID=Asia/Kolkata:20260126T203000
DTSTAMP:20260423T235011
CREATED:20240719T091101Z
LAST-MODIFIED:20260115T121553Z
UID:16201-1769451600-1769459400@crfgospel.in
SUMMARY:Monday Meeting
DESCRIPTION:
URL:https://crfgospel.in/event/monday-meeting/2026-01-26/
LOCATION:CRF Prayer Hall\, CRF Prayer Hall\, Ernakulam\, Kerala\, 682311\, India
CATEGORIES:CRF Prayer Hall,Main Meetings
GEO:10.0153071;76.4537203
X-APPLE-STRUCTURED-LOCATION;VALUE=URI;X-ADDRESS=CRF Prayer Hall CRF Prayer Hall Ernakulam Kerala 682311 India;X-APPLE-RADIUS=500;X-TITLE=CRF Prayer Hall:geo:76.4537203,10.0153071
END:VEVENT
BEGIN:VEVENT
DTSTART;TZID=Asia/Kolkata:20260126T100000
DTEND;TZID=Asia/Kolkata:20260126T130000
DTSTAMP:20260423T235011
CREATED:20260116T042111Z
LAST-MODIFIED:20260116T042316Z
UID:16459-1769421600-1769432400@crfgospel.in
SUMMARY:Prayer meeting: who appearing public Examinations
DESCRIPTION:
URL:https://crfgospel.in/event/prayer-meeting-who-appearing-public-examinations/
LOCATION:CRF Prayer Hall\, CRF Prayer Hall\, Ernakulam\, Kerala\, 682311\, India
CATEGORIES:Prayer meeting: who appearing public Examinations,Special Meetings
GEO:10.0153071;76.4537203
X-APPLE-STRUCTURED-LOCATION;VALUE=URI;X-ADDRESS=CRF Prayer Hall CRF Prayer Hall Ernakulam Kerala 682311 India;X-APPLE-RADIUS=500;X-TITLE=CRF Prayer Hall:geo:76.4537203,10.0153071
END:VEVENT
BEGIN:VEVENT
DTSTART;TZID=Asia/Kolkata:20260125T150000
DTEND;TZID=Asia/Kolkata:20260125T173000
DTSTAMP:20260423T235011
CREATED:20250626T062145Z
LAST-MODIFIED:20250626T062145Z
UID:16223-1769353200-1769362200@crfgospel.in
SUMMARY:Meenangadi - Every 4th Sunday
DESCRIPTION:
URL:https://crfgospel.in/event/meenangadi-every-4th-sunday/2026-01-25/
LOCATION:Meenangadi\, Mor Ignatius Nagar\, Meenangadi - 54\, Kerala\, India
CATEGORIES:Meenangadi,Meetings Inside Kerala
GEO:11.6602641;76.162889
X-APPLE-STRUCTURED-LOCATION;VALUE=URI;X-ADDRESS=Meenangadi Mor Ignatius Nagar Meenangadi - 54 Kerala India;X-APPLE-RADIUS=500;X-TITLE=Mor Ignatius Nagar:geo:76.162889,11.6602641
END:VEVENT
BEGIN:VEVENT
DTSTART;TZID=Asia/Kolkata:20260125T150000
DTEND;TZID=Asia/Kolkata:20260125T173000
DTSTAMP:20260423T235011
CREATED:20220730T201331Z
LAST-MODIFIED:20220730T201331Z
UID:16200-1769353200-1769362200@crfgospel.in
SUMMARY:Chingavanam - Every Fourth Sunday
DESCRIPTION:
URL:https://crfgospel.in/event/chingavanam-every-fourth-sunday/2026-01-25/
LOCATION:Chingavanam\, Kelachandra Hospital Auditorium\, Chingavanam\, Kerala\, 679334\, India
CATEGORIES:Chingavanam,Meetings Inside Kerala
GEO:9.5247693;76.5246636
X-APPLE-STRUCTURED-LOCATION;VALUE=URI;X-ADDRESS=Chingavanam Kelachandra Hospital Auditorium Chingavanam Kerala 679334 India;X-APPLE-RADIUS=500;X-TITLE=Kelachandra Hospital Auditorium:geo:76.5246636,9.5247693
END:VEVENT
BEGIN:VEVENT
DTSTART;TZID=Asia/Kolkata:20260124T203000
DTEND;TZID=Asia/Kolkata:20260124T223000
DTSTAMP:20260423T235011
CREATED:20250628T095915Z
LAST-MODIFIED:20250628T095915Z
UID:16492-1769286600-1769293800@crfgospel.in
SUMMARY:Abudhabi (Zoom Meeting)
DESCRIPTION:
URL:https://crfgospel.in/event/abudhabi/2026-01-24/
LOCATION:Abudhabi\, Abudhabi\, United Arab Emirates
CATEGORIES:Abudhabi,Meetings Outside India
END:VEVENT
BEGIN:VEVENT
DTSTART;TZID=Asia/Kolkata:20260119T182000
DTEND;TZID=Asia/Kolkata:20260119T203000
DTSTAMP:20260423T235011
CREATED:20240719T091101Z
LAST-MODIFIED:20260115T121552Z
UID:16197-1768846800-1768854600@crfgospel.in
SUMMARY:Monday Meeting
DESCRIPTION:
URL:https://crfgospel.in/event/monday-meeting/2026-01-19/
LOCATION:CRF Prayer Hall\, CRF Prayer Hall\, Ernakulam\, Kerala\, 682311\, India
CATEGORIES:CRF Prayer Hall,Main Meetings
GEO:10.0153071;76.4537203
X-APPLE-STRUCTURED-LOCATION;VALUE=URI;X-ADDRESS=CRF Prayer Hall CRF Prayer Hall Ernakulam Kerala 682311 India;X-APPLE-RADIUS=500;X-TITLE=CRF Prayer Hall:geo:76.4537203,10.0153071
END:VEVENT
BEGIN:VEVENT
DTSTART;TZID=Asia/Kolkata:20260118T063000
DTEND;TZID=Asia/Kolkata:20260118T083000
DTSTAMP:20260423T235011
CREATED:20260115T122956Z
LAST-MODIFIED:20260116T050518Z
UID:16452-1768717800-1768725000@crfgospel.in
SUMMARY:USA - Canada (Zoom Meeting)
DESCRIPTION:08:00 PM – 10:00 PM (ET)\,\n07:00 PM (CT)\,\n06:00 PM (MT)\,\n05:00 PM (PT)\, \n06:30 AM (IST)
URL:https://crfgospel.in/event/usa-canada-zoom-meeting/2026-01-18/
LOCATION:USA – Canada\, USA - Canada\, NY\, United States
CATEGORIES:Meetings Outside India,USA - Canada
END:VEVENT
BEGIN:VEVENT
DTSTART;TZID=Asia/Kolkata:20260117T184500
DTEND;TZID=Asia/Kolkata:20260117T210000
DTSTAMP:20260423T235011
CREATED:20250124T065204Z
LAST-MODIFIED:20250124T065204Z
UID:16413-1768675500-1768683600@crfgospel.in
SUMMARY:Young Men's Meeting
DESCRIPTION:
URL:https://crfgospel.in/event/young-mens-meeting/2026-01-17/
LOCATION:CRF Prayer Hall\, CRF Prayer Hall\, Ernakulam\, Kerala\, 682311\, India
CATEGORIES:CRF Prayer Hall,Main Meetings
GEO:10.0153071;76.4537203
X-APPLE-STRUCTURED-LOCATION;VALUE=URI;X-ADDRESS=CRF Prayer Hall CRF Prayer Hall Ernakulam Kerala 682311 India;X-APPLE-RADIUS=500;X-TITLE=CRF Prayer Hall:geo:76.4537203,10.0153071
END:VEVENT
BEGIN:VEVENT
DTSTART;TZID=Asia/Kolkata:20260116T080000
DTEND;TZID=Asia/Kolkata:20260116T170000
DTSTAMP:20260423T235011
CREATED:20260116T044214Z
LAST-MODIFIED:20260116T045223Z
UID:16461-1768550400-1768582800@crfgospel.in
SUMMARY:English Bible Class (for Teenager's)
DESCRIPTION:Join Zoom Meeting\nhttps://us06web.zoom.us/j/3879752275?pwd=W4Kf48EsFr4al30yJLwGMfSW8zLM01.1&omn=89379694889 \nMeeting ID: 387 975 2275\nPasscode: 100100
URL:https://crfgospel.in/event/english-bible-class-for-teenagers/
LOCATION:Zoom Meeting
CATEGORIES:English Bible Class (for Teenager's)
END:VEVENT
BEGIN:VEVENT
DTSTART;TZID=Asia/Kolkata:20260115T080000
DTEND;TZID=Asia/Kolkata:20260115T170000
DTSTAMP:20260423T235011
CREATED:20260115T122956Z
LAST-MODIFIED:20260116T050518Z
UID:16445-1768464000-1768496400@crfgospel.in
SUMMARY:USA - Canada (Zoom Meeting)
DESCRIPTION:08:00 PM – 10:00 PM (ET)\,\n07:00 PM (CT)\,\n06:00 PM (MT)\,\n05:00 PM (PT)\, \n06:30 AM (IST)
URL:https://crfgospel.in/event/usa-canada-zoom-meeting/2026-01-15/
LOCATION:USA – Canada\, USA - Canada\, NY\, United States
CATEGORIES:Meetings Outside India,USA - Canada
END:VEVENT
BEGIN:VEVENT
DTSTART;TZID=Asia/Kolkata:20260112T182000
DTEND;TZID=Asia/Kolkata:20260112T203000
DTSTAMP:20260423T235011
CREATED:20240719T091101Z
LAST-MODIFIED:20260115T121552Z
UID:16188-1768242000-1768249800@crfgospel.in
SUMMARY:Monday Meeting
DESCRIPTION:
URL:https://crfgospel.in/event/monday-meeting/2026-01-12/
LOCATION:CRF Prayer Hall\, CRF Prayer Hall\, Ernakulam\, Kerala\, 682311\, India
CATEGORIES:CRF Prayer Hall,Main Meetings
GEO:10.0153071;76.4537203
X-APPLE-STRUCTURED-LOCATION;VALUE=URI;X-ADDRESS=CRF Prayer Hall CRF Prayer Hall Ernakulam Kerala 682311 India;X-APPLE-RADIUS=500;X-TITLE=CRF Prayer Hall:geo:76.4537203,10.0153071
END:VEVENT
BEGIN:VEVENT
DTSTART;TZID=Asia/Kolkata:20260107T080000
DTEND;TZID=Asia/Kolkata:20260107T170000
DTSTAMP:20260423T235011
CREATED:20260107T141243Z
LAST-MODIFIED:20260116T052207Z
UID:16232-1767772800-1767805200@crfgospel.in
SUMMARY:Vienna (Central Europe) Zoom Meeting
DESCRIPTION:
URL:https://crfgospel.in/event/vienna-central-europe/2026-01-07/
LOCATION:Vienna\, Vienna\, Vienna\, Germany
CATEGORIES:Central Europe,Meetings Outside India
END:VEVENT
BEGIN:VEVENT
DTSTART;TZID=Asia/Kolkata:20260105T182000
DTEND;TZID=Asia/Kolkata:20260105T203000
DTSTAMP:20260423T235011
CREATED:20240719T091101Z
LAST-MODIFIED:20260115T121552Z
UID:16149-1767637200-1767645000@crfgospel.in
SUMMARY:Monday Meeting
DESCRIPTION:
URL:https://crfgospel.in/event/monday-meeting/2026-01-05/
LOCATION:CRF Prayer Hall\, CRF Prayer Hall\, Ernakulam\, Kerala\, 682311\, India
CATEGORIES:CRF Prayer Hall,Main Meetings
GEO:10.0153071;76.4537203
X-APPLE-STRUCTURED-LOCATION;VALUE=URI;X-ADDRESS=CRF Prayer Hall CRF Prayer Hall Ernakulam Kerala 682311 India;X-APPLE-RADIUS=500;X-TITLE=CRF Prayer Hall:geo:76.4537203,10.0153071
END:VEVENT
BEGIN:VEVENT
DTSTART;TZID=Asia/Kolkata:20260102T182000
DTEND;TZID=Asia/Kolkata:20260102T203000
DTSTAMP:20260423T235011
CREATED:20250628T101526Z
LAST-MODIFIED:20250628T101526Z
UID:16481-1767378000-1767385800@crfgospel.in
SUMMARY:Kuwait Zoom Meeting
DESCRIPTION:
URL:https://crfgospel.in/event/kuwait-zoom-meeting/2026-01-02/
LOCATION:Kuwait\, Kuwait\, Kuwait
CATEGORIES:Kuwait,Meetings Outside India
END:VEVENT
BEGIN:VEVENT
DTSTART;TZID=Asia/Kolkata:20251229T182000
DTEND;TZID=Asia/Kolkata:20251229T203000
DTSTAMP:20260423T235011
CREATED:20240719T091101Z
LAST-MODIFIED:20260115T121551Z
UID:16137-1767032400-1767040200@crfgospel.in
SUMMARY:Monday Meeting
DESCRIPTION:
URL:https://crfgospel.in/event/monday-meeting/2025-12-29/
LOCATION:CRF Prayer Hall\, CRF Prayer Hall\, Ernakulam\, Kerala\, 682311\, India
CATEGORIES:CRF Prayer Hall,Main Meetings
GEO:10.0153071;76.4537203
X-APPLE-STRUCTURED-LOCATION;VALUE=URI;X-ADDRESS=CRF Prayer Hall CRF Prayer Hall Ernakulam Kerala 682311 India;X-APPLE-RADIUS=500;X-TITLE=CRF Prayer Hall:geo:76.4537203,10.0153071
END:VEVENT
BEGIN:VEVENT
DTSTART;TZID=Asia/Kolkata:20251229T180000
DTEND;TZID=Asia/Kolkata:20251229T213000
DTSTAMP:20260423T235011
CREATED:20251211T052840Z
LAST-MODIFIED:20251211T055628Z
UID:16175-1767031200-1767043800@crfgospel.in
SUMMARY:Kolenchery Convention (Njattumkalayil Hilltop)
DESCRIPTION:
URL:https://crfgospel.in/event/kolenchery-convention-njattumkalayil-hilltop/2025-12-29/
LOCATION:Njaattumkaalayil Hilltop\, Kolenchery\, Njaattumkaalayil Hilltop\, Kolenchery\, Kerala\, 682311\, India
CATEGORIES:Convention,Kolenchery
END:VEVENT
BEGIN:VEVENT
DTSTART;TZID=Asia/Kolkata:20251229T093000
DTEND;TZID=Asia/Kolkata:20251229T133000
DTSTAMP:20260423T235011
CREATED:20251211T052840Z
LAST-MODIFIED:20251211T055627Z
UID:16172-1767000600-1767015000@crfgospel.in
SUMMARY:Kolenchery Convention (Njattumkalayil Hilltop)
DESCRIPTION:
URL:https://crfgospel.in/event/kolenchery-convention-njattumkalayil-hilltop/2025-12-29/
LOCATION:Njaattumkaalayil Hilltop\, Kolenchery\, Njaattumkaalayil Hilltop\, Kolenchery\, Kerala\, 682311\, India
CATEGORIES:Convention,Kolenchery
END:VEVENT
BEGIN:VEVENT
DTSTART;TZID=Asia/Kolkata:20251228T180000
DTEND;TZID=Asia/Kolkata:20251228T220000
DTSTAMP:20260423T235011
CREATED:20251211T052840Z
LAST-MODIFIED:20251211T055627Z
UID:16174-1766944800-1766959200@crfgospel.in
SUMMARY:Kolenchery Convention (Njattumkalayil Hilltop)
DESCRIPTION:
URL:https://crfgospel.in/event/kolenchery-convention-njattumkalayil-hilltop/2025-12-28/
LOCATION:Njaattumkaalayil Hilltop\, Kolenchery\, Njaattumkaalayil Hilltop\, Kolenchery\, Kerala\, 682311\, India
CATEGORIES:Convention,Kolenchery
END:VEVENT
BEGIN:VEVENT
DTSTART;TZID=Asia/Kolkata:20251228T180000
DTEND;TZID=Asia/Kolkata:20251228T213000
DTSTAMP:20260423T235011
CREATED:20251211T052840Z
LAST-MODIFIED:20251211T052840Z
UID:16178-1766944800-1766957400@crfgospel.in
SUMMARY:Kolenchery Convention (Njattumkalayil Hilltop)
DESCRIPTION:
URL:https://crfgospel.in/event/kolenchery-convention-njattumkalayil-hilltop/2025-12-28/
LOCATION:Njaattumkaalayil Hilltop\, Kolenchery\, Njaattumkaalayil Hilltop\, Kolenchery\, Kerala\, 682311\, India
CATEGORIES:Convention,Kolenchery
END:VEVENT
BEGIN:VEVENT
DTSTART;TZID=Asia/Kolkata:20251228T150000
DTEND;TZID=Asia/Kolkata:20251228T173000
DTSTAMP:20260423T235011
CREATED:20250626T062145Z
LAST-MODIFIED:20250626T062145Z
UID:16222-1766934000-1766943000@crfgospel.in
SUMMARY:Meenangadi - Every 4th Sunday
DESCRIPTION:
URL:https://crfgospel.in/event/meenangadi-every-4th-sunday/2025-12-28/
LOCATION:Meenangadi\, Mor Ignatius Nagar\, Meenangadi - 54\, Kerala\, India
CATEGORIES:Meenangadi,Meetings Inside Kerala
GEO:11.6602641;76.162889
X-APPLE-STRUCTURED-LOCATION;VALUE=URI;X-ADDRESS=Meenangadi Mor Ignatius Nagar Meenangadi - 54 Kerala India;X-APPLE-RADIUS=500;X-TITLE=Mor Ignatius Nagar:geo:76.162889,11.6602641
END:VEVENT
BEGIN:VEVENT
DTSTART;TZID=Asia/Kolkata:20251228T150000
DTEND;TZID=Asia/Kolkata:20251228T173000
DTSTAMP:20260423T235011
CREATED:20220730T201331Z
LAST-MODIFIED:20220730T201331Z
UID:16129-1766934000-1766943000@crfgospel.in
SUMMARY:Chingavanam - Every Fourth Sunday
DESCRIPTION:
URL:https://crfgospel.in/event/chingavanam-every-fourth-sunday/2025-12-28/
LOCATION:Chingavanam\, Kelachandra Hospital Auditorium\, Chingavanam\, Kerala\, 679334\, India
CATEGORIES:Chingavanam,Meetings Inside Kerala
GEO:9.5247693;76.5246636
X-APPLE-STRUCTURED-LOCATION;VALUE=URI;X-ADDRESS=Chingavanam Kelachandra Hospital Auditorium Chingavanam Kerala 679334 India;X-APPLE-RADIUS=500;X-TITLE=Kelachandra Hospital Auditorium:geo:76.5246636,9.5247693
END:VEVENT
BEGIN:VEVENT
DTSTART;TZID=Asia/Kolkata:20251228T093000
DTEND;TZID=Asia/Kolkata:20251228T133000
DTSTAMP:20260423T235011
CREATED:20251211T052840Z
LAST-MODIFIED:20251211T055626Z
UID:16171-1766914200-1766928600@crfgospel.in
SUMMARY:Kolenchery Convention (Njattumkalayil Hilltop)
DESCRIPTION:
URL:https://crfgospel.in/event/kolenchery-convention-njattumkalayil-hilltop/2025-12-28/
LOCATION:Njaattumkaalayil Hilltop\, Kolenchery\, Njaattumkaalayil Hilltop\, Kolenchery\, Kerala\, 682311\, India
CATEGORIES:Convention,Kolenchery
END:VEVENT
BEGIN:VEVENT
DTSTART;TZID=Asia/Kolkata:20251227T203000
DTEND;TZID=Asia/Kolkata:20251227T223000
DTSTAMP:20260423T235011
CREATED:20250628T095915Z
LAST-MODIFIED:20250628T095915Z
UID:16491-1766867400-1766874600@crfgospel.in
SUMMARY:Abudhabi (Zoom Meeting)
DESCRIPTION:
URL:https://crfgospel.in/event/abudhabi/2025-12-27/
LOCATION:Abudhabi\, Abudhabi\, United Arab Emirates
CATEGORIES:Abudhabi,Meetings Outside India
END:VEVENT
BEGIN:VEVENT
DTSTART;TZID=Asia/Kolkata:20251227T180000
DTEND;TZID=Asia/Kolkata:20251231T213000
DTSTAMP:20260423T235011
CREATED:20251211T052840Z
LAST-MODIFIED:20251211T055626Z
UID:16163-1766858400-1767216600@crfgospel.in
SUMMARY:Kolenchery Convention (Njattumkalayil Hilltop)
DESCRIPTION:
URL:https://crfgospel.in/event/kolenchery-convention-njattumkalayil-hilltop/2025-12-27/
LOCATION:Njaattumkaalayil Hilltop\, Kolenchery\, Njaattumkaalayil Hilltop\, Kolenchery\, Kerala\, 682311\, India
CATEGORIES:Convention,Kolenchery
END:VEVENT
BEGIN:VEVENT
DTSTART;TZID=Asia/Kolkata:20251222T182000
DTEND;TZID=Asia/Kolkata:20251222T203000
DTSTAMP:20260423T235011
CREATED:20240719T091101Z
LAST-MODIFIED:20260115T121551Z
UID:16109-1766427600-1766435400@crfgospel.in
SUMMARY:Monday Meeting
DESCRIPTION:
URL:https://crfgospel.in/event/monday-meeting/2025-12-22/
LOCATION:CRF Prayer Hall\, CRF Prayer Hall\, Ernakulam\, Kerala\, 682311\, India
CATEGORIES:CRF Prayer Hall,Main Meetings
GEO:10.0153071;76.4537203
X-APPLE-STRUCTURED-LOCATION;VALUE=URI;X-ADDRESS=CRF Prayer Hall CRF Prayer Hall Ernakulam Kerala 682311 India;X-APPLE-RADIUS=500;X-TITLE=CRF Prayer Hall:geo:76.4537203,10.0153071
END:VEVENT
BEGIN:VEVENT
DTSTART;TZID=Asia/Kolkata:20251220T184500
DTEND;TZID=Asia/Kolkata:20251220T210000
DTSTAMP:20260423T235011
CREATED:20250124T065204Z
LAST-MODIFIED:20250124T065204Z
UID:16412-1766256300-1766264400@crfgospel.in
SUMMARY:Young Men's Meeting
DESCRIPTION:
URL:https://crfgospel.in/event/young-mens-meeting/2025-12-20/
LOCATION:CRF Prayer Hall\, CRF Prayer Hall\, Ernakulam\, Kerala\, 682311\, India
CATEGORIES:CRF Prayer Hall,Main Meetings
GEO:10.0153071;76.4537203
X-APPLE-STRUCTURED-LOCATION;VALUE=URI;X-ADDRESS=CRF Prayer Hall CRF Prayer Hall Ernakulam Kerala 682311 India;X-APPLE-RADIUS=500;X-TITLE=CRF Prayer Hall:geo:76.4537203,10.0153071
END:VEVENT
BEGIN:VEVENT
DTSTART;TZID=Asia/Kolkata:20251215T182000
DTEND;TZID=Asia/Kolkata:20251215T203000
DTSTAMP:20260423T235011
CREATED:20240719T091101Z
LAST-MODIFIED:20260115T121551Z
UID:16085-1765822800-1765830600@crfgospel.in
SUMMARY:Monday Meeting
DESCRIPTION:
URL:https://crfgospel.in/event/monday-meeting/2025-12-15/
LOCATION:CRF Prayer Hall\, CRF Prayer Hall\, Ernakulam\, Kerala\, 682311\, India
CATEGORIES:CRF Prayer Hall,Main Meetings
GEO:10.0153071;76.4537203
X-APPLE-STRUCTURED-LOCATION;VALUE=URI;X-ADDRESS=CRF Prayer Hall CRF Prayer Hall Ernakulam Kerala 682311 India;X-APPLE-RADIUS=500;X-TITLE=CRF Prayer Hall:geo:76.4537203,10.0153071
END:VEVENT
BEGIN:VEVENT
DTSTART;TZID=Asia/Kolkata:20251208T182000
DTEND;TZID=Asia/Kolkata:20251208T203000
DTSTAMP:20260423T235011
CREATED:20240719T091101Z
LAST-MODIFIED:20260115T121551Z
UID:16053-1765218000-1765225800@crfgospel.in
SUMMARY:Monday Meeting
DESCRIPTION:
URL:https://crfgospel.in/event/monday-meeting/2025-12-08/
LOCATION:CRF Prayer Hall\, CRF Prayer Hall\, Ernakulam\, Kerala\, 682311\, India
CATEGORIES:CRF Prayer Hall,Main Meetings
GEO:10.0153071;76.4537203
X-APPLE-STRUCTURED-LOCATION;VALUE=URI;X-ADDRESS=CRF Prayer Hall CRF Prayer Hall Ernakulam Kerala 682311 India;X-APPLE-RADIUS=500;X-TITLE=CRF Prayer Hall:geo:76.4537203,10.0153071
END:VEVENT
BEGIN:VEVENT
DTSTART;TZID=Asia/Kolkata:20251205T182000
DTEND;TZID=Asia/Kolkata:20251205T203000
DTSTAMP:20260423T235011
CREATED:20250628T101526Z
LAST-MODIFIED:20250628T101526Z
UID:16480-1764958800-1764966600@crfgospel.in
SUMMARY:Kuwait Zoom Meeting
DESCRIPTION:
URL:https://crfgospel.in/event/kuwait-zoom-meeting/2025-12-05/
LOCATION:Kuwait\, Kuwait\, Kuwait
CATEGORIES:Kuwait,Meetings Outside India
END:VEVENT
BEGIN:VEVENT
DTSTART;TZID=Asia/Kolkata:20251201T182000
DTEND;TZID=Asia/Kolkata:20251201T203000
DTSTAMP:20260423T235011
CREATED:20240719T091101Z
LAST-MODIFIED:20260115T121550Z
UID:16019-1764613200-1764621000@crfgospel.in
SUMMARY:Monday Meeting
DESCRIPTION:
URL:https://crfgospel.in/event/monday-meeting/2025-12-01/
LOCATION:CRF Prayer Hall\, CRF Prayer Hall\, Ernakulam\, Kerala\, 682311\, India
CATEGORIES:CRF Prayer Hall,Main Meetings
GEO:10.0153071;76.4537203
X-APPLE-STRUCTURED-LOCATION;VALUE=URI;X-ADDRESS=CRF Prayer Hall CRF Prayer Hall Ernakulam Kerala 682311 India;X-APPLE-RADIUS=500;X-TITLE=CRF Prayer Hall:geo:76.4537203,10.0153071
END:VEVENT
END:VCALENDAR